BEGIN:VCALENDAR
VERSION:2.0
PRODID:-//School of Health and Human Sciences - ECPv6.15.20//NONSGML v1.0//EN
CALSCALE:GREGORIAN
METHOD:PUBLISH
X-WR-CALNAME:School of Health and Human Sciences
X-ORIGINAL-URL:https://hhs.uncg.edu
X-WR-CALDESC:Events for School of Health and Human Sciences
REFRESH-INTERVAL;VALUE=DURATION:PT1H
X-Robots-Tag:noindex
X-PUBLISHED-TTL:PT1H
BEGIN:VTIMEZONE
TZID:America/New_York
BEGIN:DAYLIGHT
TZOFFSETFROM:-0500
TZOFFSETTO:-0400
TZNAME:EDT
DTSTART:20240310T070000
END:DAYLIGHT
BEGIN:STANDARD
TZOFFSETFROM:-0400
TZOFFSETTO:-0500
TZNAME:EST
DTSTART:20241103T060000
END:STANDARD
BEGIN:DAYLIGHT
TZOFFSETFROM:-0500
TZOFFSETTO:-0400
TZNAME:EDT
DTSTART:20250309T070000
END:DAYLIGHT
BEGIN:STANDARD
TZOFFSETFROM:-0400
TZOFFSETTO:-0500
TZNAME:EST
DTSTART:20251102T060000
END:STANDARD
BEGIN:DAYLIGHT
TZOFFSETFROM:-0500
TZOFFSETTO:-0400
TZNAME:EDT
DTSTART:20260308T070000
END:DAYLIGHT
BEGIN:STANDARD
TZOFFSETFROM:-0400
TZOFFSETTO:-0500
TZNAME:EST
DTSTART:20261101T060000
END:STANDARD
END:VTIMEZONE
BEGIN:VEVENT
DTSTART;TZID=America/New_York:20250424T153000
DTEND;TZID=America/New_York:20250424T170000
DTSTAMP:20260422T160040
CREATED:20250402T190551Z
LAST-MODIFIED:20250409T160924Z
UID:10000016-1745508600-1745514000@hhs.uncg.edu
SUMMARY:Fit for Duty: Military-Affiliated Health careers Panel
DESCRIPTION:HHS\, in collaboration with Military Affiliated Services and Alumni Engagement\, invites you to explore health-related careers in military settings. Learn about opportunities in kinesiology\, performance psychology\, nutrition\, social work\, and therapeutic recreation. \nAll students and alumni are welcome! Join us on UNCG campus at the Office of Military-Affiliated Services at 1540 Spring Garden St. for this exciting event. \nPlease fill out form to RSVP.
URL:https://hhs.uncg.edu/event/fit-for-duty-military-affiliated-health-careers-panel/
LOCATION:Office of Military-Affiliated Services\, University of North Carolina Greensboro\, Greensboro\, United States
END:VEVENT
END:VCALENDAR