BEGIN:VCALENDAR
VERSION:2.0
PRODID:-//School of Health and Human Sciences - ECPv6.15.20//NONSGML v1.0//EN
CALSCALE:GREGORIAN
METHOD:PUBLISH
X-WR-CALNAME:School of Health and Human Sciences
X-ORIGINAL-URL:https://hhs.uncg.edu
X-WR-CALDESC:Events for School of Health and Human Sciences
REFRESH-INTERVAL;VALUE=DURATION:PT1H
X-Robots-Tag:noindex
X-PUBLISHED-TTL:PT1H
BEGIN:VTIMEZONE
TZID:America/New_York
BEGIN:DAYLIGHT
TZOFFSETFROM:-0500
TZOFFSETTO:-0400
TZNAME:EDT
DTSTART:20250309T070000
END:DAYLIGHT
BEGIN:STANDARD
TZOFFSETFROM:-0400
TZOFFSETTO:-0500
TZNAME:EST
DTSTART:20251102T060000
END:STANDARD
BEGIN:DAYLIGHT
TZOFFSETFROM:-0500
TZOFFSETTO:-0400
TZNAME:EDT
DTSTART:20260308T070000
END:DAYLIGHT
BEGIN:STANDARD
TZOFFSETFROM:-0400
TZOFFSETTO:-0500
TZNAME:EST
DTSTART:20261101T060000
END:STANDARD
BEGIN:DAYLIGHT
TZOFFSETFROM:-0500
TZOFFSETTO:-0400
TZNAME:EDT
DTSTART:20270314T070000
END:DAYLIGHT
BEGIN:STANDARD
TZOFFSETFROM:-0400
TZOFFSETTO:-0500
TZNAME:EST
DTSTART:20271107T060000
END:STANDARD
END:VTIMEZONE
BEGIN:VEVENT
DTSTART;TZID=America/New_York:20260507T100000
DTEND;TZID=America/New_York:20260507T130000
DTSTAMP:20260423T051949
CREATED:20260422T170112Z
LAST-MODIFIED:20260422T170112Z
UID:10000086-1778148000-1778158800@hhs.uncg.edu
SUMMARY:Graduate School Graduation
DESCRIPTION:UNCG Doctoral and Master’s Commencement Ceremony will be held at the former Greensboro Coliseum. It will also be streamed live.\n\nMore information:  https://commencement.uncg.edu/
URL:https://hhs.uncg.edu/event/graduate-school-graduation/
LOCATION:First Horizon Coliseum\, 1921 W Gate City Blvd\, Greensboro\, NC\, 27403\, United States
END:VEVENT
BEGIN:VEVENT
DTSTART;TZID=America/New_York:20260508T100000
DTEND;TZID=America/New_York:20260508T130000
DTSTAMP:20260423T051949
CREATED:20260422T170230Z
LAST-MODIFIED:20260422T170230Z
UID:10000087-1778234400-1778245200@hhs.uncg.edu
SUMMARY:May Commencement
DESCRIPTION:UNCG Undergraduate Commencement will be held at the former Greensboro Coliseum. It will also be streamed live.\n\nMore information:  https://commencement.uncg.edu/
URL:https://hhs.uncg.edu/event/may-commencement/
LOCATION:First Horizon Coliseum\, 1921 W Gate City Blvd\, Greensboro\, NC\, 27403\, United States
END:VEVENT
END:VCALENDAR