BEGIN:VCALENDAR
VERSION:2.0
PRODID:-//School of Health and Human Sciences - ECPv6.15.20//NONSGML v1.0//EN
CALSCALE:GREGORIAN
METHOD:PUBLISH
X-WR-CALNAME:School of Health and Human Sciences
X-ORIGINAL-URL:https://hhs.uncg.edu
X-WR-CALDESC:Events for School of Health and Human Sciences
REFRESH-INTERVAL;VALUE=DURATION:PT1H
X-Robots-Tag:noindex
X-PUBLISHED-TTL:PT1H
BEGIN:VTIMEZONE
TZID:America/New_York
BEGIN:DAYLIGHT
TZOFFSETFROM:-0500
TZOFFSETTO:-0400
TZNAME:EDT
DTSTART:20240310T070000
END:DAYLIGHT
BEGIN:STANDARD
TZOFFSETFROM:-0400
TZOFFSETTO:-0500
TZNAME:EST
DTSTART:20241103T060000
END:STANDARD
BEGIN:DAYLIGHT
TZOFFSETFROM:-0500
TZOFFSETTO:-0400
TZNAME:EDT
DTSTART:20250309T070000
END:DAYLIGHT
BEGIN:STANDARD
TZOFFSETFROM:-0400
TZOFFSETTO:-0500
TZNAME:EST
DTSTART:20251102T060000
END:STANDARD
BEGIN:DAYLIGHT
TZOFFSETFROM:-0500
TZOFFSETTO:-0400
TZNAME:EDT
DTSTART:20260308T070000
END:DAYLIGHT
BEGIN:STANDARD
TZOFFSETFROM:-0400
TZOFFSETTO:-0500
TZNAME:EST
DTSTART:20261101T060000
END:STANDARD
END:VTIMEZONE
BEGIN:VEVENT
DTSTART;TZID=America/New_York:20251103T090000
DTEND;TZID=America/New_York:20251103T110000
DTSTAMP:20260421T000424
CREATED:20250811T202718Z
LAST-MODIFIED:20250811T202718Z
UID:10000043-1762160400-1762167600@hhs.uncg.edu
SUMMARY:Emeritus Society's Lifelong Learning Class
DESCRIPTION:Explore Pamela Paul’s book\, “100 Things We’ve Lost to the Internet\,” with UNCG Gerontology Professor Dr. Chantelle S. Caro.
URL:https://hhs.uncg.edu/event/emeritus-societys-lifelong-learning-class/
END:VEVENT
BEGIN:VEVENT
DTSTART;TZID=America/New_York:20251105T180000
DTEND;TZID=America/New_York:20251105T200000
DTSTAMP:20260421T000424
CREATED:20250820T201435Z
LAST-MODIFIED:20250820T201435Z
UID:10000045-1762365600-1762372800@hhs.uncg.edu
SUMMARY:Everyone Deserves to Eat! | Event at Second Harvest Food Bank
DESCRIPTION:Since first partnering with Second Harvest in 2006\, alumnus and chef Jeff Bacon ‘97 has dedicated himself to fighting job and food insecurity in North Carolina by sharing his love of cooking through the Providence Culinary Training Program. Hear from Bacon\, a graduate from UNCG’s nutrition program\, on the extraordinary work happening at Second Harvest Food Bank\, tour the state-of-the-art facility\, and sample delicious items from the program’s graduates. Everyone deserves to eat! \nRegistration details will be available soon.
URL:https://hhs.uncg.edu/event/everyone-deserves-to-eat-event-at-second-harvest-food-bank/
LOCATION:Second Harvest Food Bank\, 3330 Shorefair Drive\, Winston-Salem\, NC  27105\, 3330 Shorefair Drive\, Winston-Salem\, NC\, 27105\, United States
END:VEVENT
BEGIN:VEVENT
DTSTART;TZID=America/New_York:20251112T120000
DTEND;TZID=America/New_York:20251112T130000
DTSTAMP:20260421T000424
CREATED:20251020T140845Z
LAST-MODIFIED:20251020T140845Z
UID:10000062-1762948800-1762952400@hhs.uncg.edu
SUMMARY:PCS Chair Dr. Rinker discusses Diasporas and Conflict
DESCRIPTION:Department of Peace and Conflict Studies Chair Dr. Jeremy Rinker will be speaking on Diasporas and Conflict for the UNCG Global Engagement Office’s Lunch and Learn series. Discussion of Gaza\, Ukraine\, and other ongoing international conflicts will form the undercurrent of this discussion-based community talk. Register here!
URL:https://hhs.uncg.edu/event/pcs-chair-dr-rinker-discusses-diasporas-and-conflict/
LOCATION:206 Foust Building\, Foust Building\, Greensboro\, 27412\, United States
END:VEVENT
BEGIN:VEVENT
DTSTART;TZID=America/New_York:20251113T153000
DTEND;TZID=America/New_York:20251113T163000
DTSTAMP:20260421T000424
CREATED:20251014T153811Z
LAST-MODIFIED:20251028T141859Z
UID:10000058-1763047800-1763051400@hhs.uncg.edu
SUMMARY:2025 Lawther Lecture Series: Quality of Life Is a Right: Designing Lives\, Not Programs\, with Chris Wilson
DESCRIPTION:Join us on Thursday\, November 13th from 3:30 to 4:30 p.m. in NIB 124 for a featured session of the 2025 Lawther Lecture Series: Quality of Life Is a Right: Designing Lives\, Not Programs\, presented by Christian “Chris” Wilson\, a proud CTR (’98) alumnus of UNCG. Chris frequently returns to campus to inspire students and emphasize that true success in community and therapeutic recreation isn’t measured by the number of programs delivered\, but by the lives that are improved. A reception with light snacks will follow from 4:30 to 5:00 p.m. \nPlease RSVP!
URL:https://hhs.uncg.edu/event/lawther-lecture-with-chris-wilson/
END:VEVENT
BEGIN:VEVENT
DTSTART;TZID=America/New_York:20251114T100000
DTEND;TZID=America/New_York:20251114T130000
DTSTAMP:20260421T000424
CREATED:20251006T145038Z
LAST-MODIFIED:20251006T145038Z
UID:10000055-1763114400-1763125200@hhs.uncg.edu
SUMMARY:Kinesiology Graduate Programs In-Person Open House
DESCRIPTION:The UNCG Department of Kinesiology is hosting an in-person open house for prospective students of all graduate programs. You must RSVP by Friday\, Oct. 31.
URL:https://hhs.uncg.edu/event/kinesiology-graduate-programs-in-person-open-house/
LOCATION:Coleman Building Research Gym\, Room 248
END:VEVENT
BEGIN:VEVENT
DTSTART;TZID=America/New_York:20251121T120000
DTEND;TZID=America/New_York:20251121T130000
DTSTAMP:20260421T000424
CREATED:20251008T154251Z
LAST-MODIFIED:20251008T154344Z
UID:10000057-1763726400-1763730000@hhs.uncg.edu
SUMMARY:Kinesiology Graduate Programs Virtual Open House
DESCRIPTION:The UNCG Department of Kinesiology is hosting an online open house for prospective students of all graduate programs. You must RSVP by Wednesday\, Nov. 19
URL:https://hhs.uncg.edu/event/kinesiology-graduate-programs-virtual-open-house/
END:VEVENT
END:VCALENDAR