BEGIN:VCALENDAR
VERSION:2.0
PRODID:-//School of Health and Human Sciences - ECPv6.15.20//NONSGML v1.0//EN
CALSCALE:GREGORIAN
METHOD:PUBLISH
X-WR-CALNAME:School of Health and Human Sciences
X-ORIGINAL-URL:https://hhs.uncg.edu
X-WR-CALDESC:Events for School of Health and Human Sciences
REFRESH-INTERVAL;VALUE=DURATION:PT1H
X-Robots-Tag:noindex
X-PUBLISHED-TTL:PT1H
BEGIN:VTIMEZONE
TZID:America/New_York
BEGIN:DAYLIGHT
TZOFFSETFROM:-0500
TZOFFSETTO:-0400
TZNAME:EDT
DTSTART:20240310T070000
END:DAYLIGHT
BEGIN:STANDARD
TZOFFSETFROM:-0400
TZOFFSETTO:-0500
TZNAME:EST
DTSTART:20241103T060000
END:STANDARD
BEGIN:DAYLIGHT
TZOFFSETFROM:-0500
TZOFFSETTO:-0400
TZNAME:EDT
DTSTART:20250309T070000
END:DAYLIGHT
BEGIN:STANDARD
TZOFFSETFROM:-0400
TZOFFSETTO:-0500
TZNAME:EST
DTSTART:20251102T060000
END:STANDARD
BEGIN:DAYLIGHT
TZOFFSETFROM:-0500
TZOFFSETTO:-0400
TZNAME:EDT
DTSTART:20260308T070000
END:DAYLIGHT
BEGIN:STANDARD
TZOFFSETFROM:-0400
TZOFFSETTO:-0500
TZNAME:EST
DTSTART:20261101T060000
END:STANDARD
BEGIN:DAYLIGHT
TZOFFSETFROM:-0500
TZOFFSETTO:-0400
TZNAME:EDT
DTSTART:20270314T070000
END:DAYLIGHT
BEGIN:STANDARD
TZOFFSETFROM:-0400
TZOFFSETTO:-0500
TZNAME:EST
DTSTART:20271107T060000
END:STANDARD
END:VTIMEZONE
BEGIN:VEVENT
DTSTART;TZID=America/New_York:20260220T140000
DTEND;TZID=America/New_York:20260220T150000
DTSTAMP:20260423T074314
CREATED:20260206T202045Z
LAST-MODIFIED:20260209T193513Z
UID:10000073-1771596000-1771599600@hhs.uncg.edu
SUMMARY:Dr. Tracie Canada speaks at Kinesiology Grad Student Colloquium
DESCRIPTION:Dr. Tracie Canada\, assistant professor of cultural anthropology at Duke University\, is the featured guest. Her talk will draw from her book\, “Tackling the Everyday: Race and Nation in Big-Time College Football\,” which explores how Black college football players navigate the systems shaping their everyday lives.
URL:https://hhs.uncg.edu/event/kinesiology-colloquium/
LOCATION:Bryan Building\, Room 122\, 516 Stirling Street\, Greensboro\, NC\, 27412\, United States
END:VEVENT
BEGIN:VEVENT
DTSTART;TZID=America/New_York:20260204T190000
DTEND;TZID=America/New_York:20260204T210000
DTSTAMP:20260423T074314
CREATED:20251219T203725Z
LAST-MODIFIED:20251219T204254Z
UID:10000067-1770231600-1770238800@hhs.uncg.edu
SUMMARY:HHS Alumni and Friends Night at UNCG Men's Basketball Game
DESCRIPTION:Join the School of Health and Human Sciences and the HHS Alumni Leadership Council as the Spartans take on Western Carolina University. Your $15 ticket gives you access to the Vu Lounge and a reserved seat in Section 114\, along with hearty hors d’oeuvres and a cash bar. Don’t miss this exciting night to cheer on the Spartans and reconnect with fellow alumni!
URL:https://hhs.uncg.edu/event/hhs-alumni-and-friends-night-at-uncg-mens-basketball-game/
LOCATION:First Horizon Coliseum\, 1921 W Gate City Blvd\, Greensboro\, NC\, 27403\, United States
END:VEVENT
BEGIN:VEVENT
DTSTART;TZID=America/New_York:20260201T100000
DTEND;TZID=America/New_York:20260201T130000
DTSTAMP:20260423T074314
CREATED:20260116T203728Z
LAST-MODIFIED:20260116T203808Z
UID:10000069-1769940000-1769950800@hhs.uncg.edu
SUMMARY:National Girls and Women in Sports Day of Play
DESCRIPTION:Girls ages 5-16 will get lessons and participate in a variety of sports\, and have a pizza lunch. After\, girls are invited to watch the UNCG Women’s Basketball game at 2 p.m. \nRegister for the free Day of Play:  https://bit.ly/4pGKIiv
URL:https://hhs.uncg.edu/event/national-girls-and-women-in-sports-day-of-play/
LOCATION:UNCG Middle College Gym\, 1510 Walker Ave.\, Greensboro\, NC\, 27412\, United States
END:VEVENT
BEGIN:VEVENT
DTSTART;TZID=America/New_York:20260128T120000
DTEND;TZID=America/New_York:20260128T123000
DTSTAMP:20260423T074314
CREATED:20260120T184205Z
LAST-MODIFIED:20260120T184205Z
UID:10000071-1769601600-1769603400@hhs.uncg.edu
SUMMARY:Guided Meditation
DESCRIPTION:Take a pause in the middle of your week and join HealthyUNCG for a guided mindfulness meditation designed to help you reset\, relax\, and recharge. This short session will focus on breathing\, grounding\, and gentle awareness to support stress relief and mental clarity.
URL:https://hhs.uncg.edu/event/guided-meditation/
LOCATION:Ferguson Building\, Room 249\, 524 Highland Ave.\, Greensboro\, NC\, 27412\, United States
END:VEVENT
BEGIN:VEVENT
DTSTART;TZID=America/New_York:20260123T090000
DTEND;TZID=America/New_York:20260123T170000
DTSTAMP:20260423T074314
CREATED:20260120T183815Z
LAST-MODIFIED:20260120T183815Z
UID:10000070-1769158800-1769187600@hhs.uncg.edu
SUMMARY:Faculty and Staff E-Sports Day
DESCRIPTION:Take a break and enjoy some gaming in the UNCG E-Sports Arena. With 48 high-end gaming PCs\, three console bays\, and virtual reality play\, there’s something for everyone—whether you’re a first-time gamer or a seasoned pro. Enjoy open play throughout the day or competition play from 3-5 p.m. UNCG faculty/staff ID required.  \nSign up is encouraged:  https://forms.office.com/Pages/ResponsePage.aspx?id=9Vzhc7tdr0aoYnU5Fiadc3oDoPoLsINJnyFWAFuWOLBUN1ZNTVZBUTZVOUQ0NUFPNVY5SFVUNFYxQy4u
URL:https://hhs.uncg.edu/event/faculty-and-staff-e-sports-day/
LOCATION:Moran Commons\, Room 109\, 1400 Spring Garden St.\, Greensboro\, NC\, 27412\, United States
END:VEVENT
BEGIN:VEVENT
DTSTART;TZID=America/New_York:20260114T120000
DTEND;TZID=America/New_York:20260114T130000
DTSTAMP:20260423T074314
CREATED:20251125T211629Z
LAST-MODIFIED:20251125T211629Z
UID:10000063-1768392000-1768395600@hhs.uncg.edu
SUMMARY:Alumni All Access: School of Health and Human Sciences
DESCRIPTION:Join Dean Carl Mattacola of UNCG’s School of Health and Human Sciences for this exclusive session! \nClick here to register for this free virtual event.
URL:https://hhs.uncg.edu/event/alumni-all-access-school-of-health-and-human-sciences/
END:VEVENT
BEGIN:VEVENT
DTSTART;VALUE=DATE:20260112
DTEND;VALUE=DATE:20260113
DTSTAMP:20260423T074314
CREATED:20251219T170435Z
LAST-MODIFIED:20251219T170435Z
UID:10000066-1768176000-1768262399@hhs.uncg.edu
SUMMARY:Spring semester classes begin
DESCRIPTION:Spring semester classes begin at UNCG
URL:https://hhs.uncg.edu/event/spring-semester-classes-begin/
LOCATION:UNCG\, 1400 Spring Garden St.\, Greensboro\, NC\, 27412\, United States
END:VEVENT
BEGIN:VEVENT
DTSTART;TZID=America/New_York:20251212T100000
DTEND;TZID=America/New_York:20251212T130000
DTSTAMP:20260423T074314
CREATED:20251204T202132Z
LAST-MODIFIED:20251204T202132Z
UID:10000065-1765533600-1765544400@hhs.uncg.edu
SUMMARY:December Commencement
DESCRIPTION:Graduating seniors and master’s students can participate in commencement
URL:https://hhs.uncg.edu/event/december-commencement/
LOCATION:First Horizon Coliseum\, 1921 W Gate City Blvd\, Greensboro\, NC\, 27403\, United States
END:VEVENT
BEGIN:VEVENT
DTSTART;TZID=America/New_York:20251211T100000
DTEND;TZID=America/New_York:20251211T130000
DTSTAMP:20260423T074314
CREATED:20251204T201956Z
LAST-MODIFIED:20251204T201956Z
UID:10000064-1765447200-1765458000@hhs.uncg.edu
SUMMARY:Doctoral Hooding
DESCRIPTION:Doctoral degree candidates will participate in a hooding ceremony.
URL:https://hhs.uncg.edu/event/doctoral-hooding/
LOCATION:UNCG Auditorium\, 100 McIver Street\, Greensboro\, NC\, 27412\, United States
END:VEVENT
BEGIN:VEVENT
DTSTART;TZID=America/New_York:20251121T120000
DTEND;TZID=America/New_York:20251121T130000
DTSTAMP:20260423T074314
CREATED:20251008T154251Z
LAST-MODIFIED:20251008T154344Z
UID:10000057-1763726400-1763730000@hhs.uncg.edu
SUMMARY:Kinesiology Graduate Programs Virtual Open House
DESCRIPTION:The UNCG Department of Kinesiology is hosting an online open house for prospective students of all graduate programs. You must RSVP by Wednesday\, Nov. 19
URL:https://hhs.uncg.edu/event/kinesiology-graduate-programs-virtual-open-house/
END:VEVENT
BEGIN:VEVENT
DTSTART;TZID=America/New_York:20251114T100000
DTEND;TZID=America/New_York:20251114T130000
DTSTAMP:20260423T074314
CREATED:20251006T145038Z
LAST-MODIFIED:20251006T145038Z
UID:10000055-1763114400-1763125200@hhs.uncg.edu
SUMMARY:Kinesiology Graduate Programs In-Person Open House
DESCRIPTION:The UNCG Department of Kinesiology is hosting an in-person open house for prospective students of all graduate programs. You must RSVP by Friday\, Oct. 31.
URL:https://hhs.uncg.edu/event/kinesiology-graduate-programs-in-person-open-house/
LOCATION:Coleman Building Research Gym\, Room 248
END:VEVENT
BEGIN:VEVENT
DTSTART;TZID=America/New_York:20251113T153000
DTEND;TZID=America/New_York:20251113T163000
DTSTAMP:20260423T074314
CREATED:20251014T153811Z
LAST-MODIFIED:20251028T141859Z
UID:10000058-1763047800-1763051400@hhs.uncg.edu
SUMMARY:2025 Lawther Lecture Series: Quality of Life Is a Right: Designing Lives\, Not Programs\, with Chris Wilson
DESCRIPTION:Join us on Thursday\, November 13th from 3:30 to 4:30 p.m. in NIB 124 for a featured session of the 2025 Lawther Lecture Series: Quality of Life Is a Right: Designing Lives\, Not Programs\, presented by Christian “Chris” Wilson\, a proud CTR (’98) alumnus of UNCG. Chris frequently returns to campus to inspire students and emphasize that true success in community and therapeutic recreation isn’t measured by the number of programs delivered\, but by the lives that are improved. A reception with light snacks will follow from 4:30 to 5:00 p.m. \nPlease RSVP!
URL:https://hhs.uncg.edu/event/lawther-lecture-with-chris-wilson/
END:VEVENT
BEGIN:VEVENT
DTSTART;TZID=America/New_York:20251112T120000
DTEND;TZID=America/New_York:20251112T130000
DTSTAMP:20260423T074314
CREATED:20251020T140845Z
LAST-MODIFIED:20251020T140845Z
UID:10000062-1762948800-1762952400@hhs.uncg.edu
SUMMARY:PCS Chair Dr. Rinker discusses Diasporas and Conflict
DESCRIPTION:Department of Peace and Conflict Studies Chair Dr. Jeremy Rinker will be speaking on Diasporas and Conflict for the UNCG Global Engagement Office’s Lunch and Learn series. Discussion of Gaza\, Ukraine\, and other ongoing international conflicts will form the undercurrent of this discussion-based community talk. Register here!
URL:https://hhs.uncg.edu/event/pcs-chair-dr-rinker-discusses-diasporas-and-conflict/
LOCATION:206 Foust Building\, Foust Building\, Greensboro\, 27412\, United States
END:VEVENT
BEGIN:VEVENT
DTSTART;TZID=America/New_York:20251105T180000
DTEND;TZID=America/New_York:20251105T200000
DTSTAMP:20260423T074314
CREATED:20250820T201435Z
LAST-MODIFIED:20250820T201435Z
UID:10000045-1762365600-1762372800@hhs.uncg.edu
SUMMARY:Everyone Deserves to Eat! | Event at Second Harvest Food Bank
DESCRIPTION:Since first partnering with Second Harvest in 2006\, alumnus and chef Jeff Bacon ‘97 has dedicated himself to fighting job and food insecurity in North Carolina by sharing his love of cooking through the Providence Culinary Training Program. Hear from Bacon\, a graduate from UNCG’s nutrition program\, on the extraordinary work happening at Second Harvest Food Bank\, tour the state-of-the-art facility\, and sample delicious items from the program’s graduates. Everyone deserves to eat! \nRegistration details will be available soon.
URL:https://hhs.uncg.edu/event/everyone-deserves-to-eat-event-at-second-harvest-food-bank/
LOCATION:Second Harvest Food Bank\, 3330 Shorefair Drive\, Winston-Salem\, NC  27105\, 3330 Shorefair Drive\, Winston-Salem\, NC\, 27105\, United States
END:VEVENT
BEGIN:VEVENT
DTSTART;TZID=America/New_York:20251103T090000
DTEND;TZID=America/New_York:20251103T110000
DTSTAMP:20260423T074314
CREATED:20250811T202718Z
LAST-MODIFIED:20250811T202718Z
UID:10000043-1762160400-1762167600@hhs.uncg.edu
SUMMARY:Emeritus Society's Lifelong Learning Class
DESCRIPTION:Explore Pamela Paul’s book\, “100 Things We’ve Lost to the Internet\,” with UNCG Gerontology Professor Dr. Chantelle S. Caro.
URL:https://hhs.uncg.edu/event/emeritus-societys-lifelong-learning-class/
END:VEVENT
BEGIN:VEVENT
DTSTART;TZID=America/New_York:20251030T143000
DTEND;TZID=America/New_York:20251030T173000
DTSTAMP:20260423T074314
CREATED:20251020T134441Z
LAST-MODIFIED:20251020T134721Z
UID:10000061-1761834600-1761845400@hhs.uncg.edu
SUMMARY:HHS Trick or Treat Trail
DESCRIPTION:Students are invited to visit each of HHS’ programs and departments\, collecting candy and stamps on their passports along the way. Finish the Trick or Treat Trail at the HHS Advising Center on the fourth floor of the Margaret C. Moore Building for a party!
URL:https://hhs.uncg.edu/event/hhs-trick-or-treat-trail/
LOCATION:Margaret C. Moore Building\, 413 Moore Bldg\, Greensboro\, NC\, 27412\, United States
END:VEVENT
BEGIN:VEVENT
DTSTART;TZID=America/New_York:20251029T120000
DTEND;TZID=America/New_York:20251029T130000
DTSTAMP:20260423T074314
CREATED:20251001T151306Z
LAST-MODIFIED:20251001T151306Z
UID:10000053-1761739200-1761742800@hhs.uncg.edu
SUMMARY:Employee Cooking Class
DESCRIPTION:UNCG employees are invited to join our Employee-Only Cooking Class\, led by the Department of Nutrition and our talented dietetic interns! In this hands-on session\, you’ll learn new healthy recipes along with sustainable shopping and cooking practices that you can easily bring into your daily routine. The best part—you’ll get to sample the delicious dishes you create together. Come spend your lunch break learning\, cooking\, and enjoying great food in a fun\, supportive environment! \nLocated in Stone 303 \nRegistration is required
URL:https://hhs.uncg.edu/event/employee-cooking-class/
END:VEVENT
BEGIN:VEVENT
DTSTART;VALUE=DATE:20251029
DTEND;VALUE=DATE:20251030
DTSTAMP:20260423T074314
CREATED:20250820T220220Z
LAST-MODIFIED:20250820T220220Z
UID:10000049-1761696000-1761782399@hhs.uncg.edu
SUMMARY:DC Alumni Event
DESCRIPTION:Calling all DC-area alumni: mark your calendars to join us! More details will be available soon.
URL:https://hhs.uncg.edu/event/dc-alumni-event/
END:VEVENT
BEGIN:VEVENT
DTSTART;TZID=America/New_York:20251028T173000
DTEND;TZID=America/New_York:20251028T203000
DTSTAMP:20260423T074314
CREATED:20250820T220306Z
LAST-MODIFIED:20250820T220306Z
UID:10000050-1761672600-1761683400@hhs.uncg.edu
SUMMARY:NYC UNCG Alumni Social
DESCRIPTION:Join UNCG Alumni at Tanner Smiths for a UNCG Alumni Social. Event includes an open bar with beer and wine and a variety of appetizers and finger foods. Liquor and mixed drinks can be purchased separately at the cash bar. Guests are welcome to attend!
URL:https://hhs.uncg.edu/event/nyc-uncg-alumni-social/
END:VEVENT
BEGIN:VEVENT
DTSTART;TZID=America/New_York:20251027T123000
DTEND;TZID=America/New_York:20251027T140000
DTSTAMP:20260423T074314
CREATED:20250930T170747Z
LAST-MODIFIED:20250930T172028Z
UID:10000052-1761568200-1761573600@hhs.uncg.edu
SUMMARY:MSAT In-Person Open House
DESCRIPTION:The UNCG Department of Kinesiology is hosting an in-person open house for prospective students of the MSAT program. You must RSVP by Wednesday\, Oct. 22.
URL:https://hhs.uncg.edu/event/msat-in-person-open-house/
LOCATION:Coleman Building\, Room 347\, 1408 Walker Ave\, Greensboro\, NC\, 27412\, United States
END:VEVENT
BEGIN:VEVENT
DTSTART;TZID=America/New_York:20251027T090000
DTEND;TZID=America/New_York:20251027T164500
DTSTAMP:20260423T074314
CREATED:20251008T153648Z
LAST-MODIFIED:20251008T153648Z
UID:10000056-1761555600-1761583500@hhs.uncg.edu
SUMMARY:Free Hearing Screenings
DESCRIPTION:Participate in the second annual Listen Up! Event\, and get a free hearing screening at the UNCG Speech and Hearing Center.
URL:https://hhs.uncg.edu/event/free-hearing-screenings/
LOCATION:UNCG Speech and Hearing Center\, 524 Highland Ave.\, 300 Ferguson Building
END:VEVENT
BEGIN:VEVENT
DTSTART;TZID=America/New_York:20251022T110000
DTEND;TZID=America/New_York:20251022T130000
DTSTAMP:20260423T074314
CREATED:20250820T201114Z
LAST-MODIFIED:20250820T201114Z
UID:10000044-1761130800-1761138000@hhs.uncg.edu
SUMMARY:River Landing Alumni Luncheon w/ Elise Eifert
DESCRIPTION:Alumni will meet at River Landing at Sandy Ridge for a lunch and learn with Elise Eifert ’14 Ph.D.\, Associate Professor & Graduate Gerontology Program Coordinator. Please connect with Karen Gerringer\, Lynne Gaskin\, or alumni@uncg.edu to RSVP for this event. \n  \nThis opportunity is also open to alumni who are not members of the River Landing community! Please feel free to reach out to alumni@uncg.edu if you are interested in attending.
URL:https://hhs.uncg.edu/event/river-landing-alumni-luncheon-w-elise-eifert/
END:VEVENT
BEGIN:VEVENT
DTSTART;TZID=America/New_York:20251018T080000
DTEND;TZID=America/New_York:20251018T170000
DTSTAMP:20260423T074314
CREATED:20250506T151030Z
LAST-MODIFIED:20250506T151738Z
UID:10000036-1760774400-1760806800@hhs.uncg.edu
SUMMARY:Homecoming 2025
DESCRIPTION:Please join us for Homecoming. Events are held on College Ave.\, in front lawn of the Elliot Center (EUC) and at other locations across the UNCG campus. \n  \n  \n  \n \n 
URL:https://hhs.uncg.edu/event/homecoming-2025/
END:VEVENT
BEGIN:VEVENT
DTSTART;TZID=America/New_York:20251016T173000
DTEND;TZID=America/New_York:20251016T193000
DTSTAMP:20260423T074314
CREATED:20251015T235416Z
LAST-MODIFIED:20251015T235416Z
UID:10000059-1760635800-1760643000@hhs.uncg.edu
SUMMARY:HHS Alumni Awards
DESCRIPTION:Awards ceremony to recognize outstanding HHS alumni.
URL:https://hhs.uncg.edu/event/hhs-alumni-awards/
LOCATION:Weatherspoon Art Museum\, 500 Tate St.\, Greensboro\, 500 Tate St.\, Greensboro\, NC\, 27412\, United States
END:VEVENT
BEGIN:VEVENT
DTSTART;TZID=America/New_York:20251016T100000
DTEND;TZID=America/New_York:20251016T130000
DTSTAMP:20260423T074314
CREATED:20251016T000801Z
LAST-MODIFIED:20251016T000801Z
UID:10000060-1760608800-1760619600@hhs.uncg.edu
SUMMARY:Genetic Counseling Homecoming Tailgate Party
DESCRIPTION:The HHS Genetic Counseling Program will be hosting a tailgate following the School of Nursing Breast Cancer Walk. The event will include food\, drinks\, music and games.
URL:https://hhs.uncg.edu/event/genetic-counseling-homecoming-tailgate-party/
LOCATION:996 Spring Garden St. Parking Lot\, 996 Spring Garden St.\, Greensboro\, NC\, 27412\, United States
END:VEVENT
BEGIN:VEVENT
DTSTART;TZID=America/New_York:20251006T190000
DTEND;TZID=America/New_York:20251006T200000
DTSTAMP:20260423T074314
CREATED:20251001T171920Z
LAST-MODIFIED:20251001T213834Z
UID:10000054-1759777200-1759780800@hhs.uncg.edu
SUMMARY:Human Development and Family Studies Graduate Program Open House
DESCRIPTION:The UNCG Human Development and Family Studies Program will host an online information session with current Ph.D. Students and professors for prospective M.S. and Ph.D. students.\n\nMore info: Find more information and register here.
URL:https://hhs.uncg.edu/event/human-development-and-family-studies-graduate-program-open-house/
END:VEVENT
BEGIN:VEVENT
DTSTART;TZID=America/New_York:20250923T173000
DTEND;TZID=America/New_York:20250923T203000
DTSTAMP:20260423T074314
CREATED:20250820T215947Z
LAST-MODIFIED:20250820T215947Z
UID:10000048-1758648600-1758659400@hhs.uncg.edu
SUMMARY:Triangle Alumni Network Social @ Tobacco Road Sports Cafe
DESCRIPTION:Join UNCG Alumni for a night of good food\, fellowship\, and games at Tobacco Road Sports Cafe. We have reserved the Game Room for exclusive use\, along with a fajita buffet and an open bar (Beer and Wine only) from 6pm to 8pm. \nAdditionally\, we will have a speaker give a quick 15-minute TEDx style talk/presentation. Stay tuned for a speaker reveal! \nGuests are welcome to attend\, but be registered by the alum(ni) with whom they will attend. \nPlease click here to secure your ticket for this event.
URL:https://hhs.uncg.edu/event/triangle-alumni-network-social-tobacco-road-sports-cafe/
LOCATION:Tobacco Sports Road Cafe\, 280 S Mangum St #100\, Durham\, NC\, 27701\, United States
END:VEVENT
BEGIN:VEVENT
DTSTART;TZID=America/New_York:20250917T173000
DTEND;TZID=America/New_York:20250917T193000
DTSTAMP:20260423T074314
CREATED:20250820T215806Z
LAST-MODIFIED:20250820T215806Z
UID:10000047-1758130200-1758137400@hhs.uncg.edu
SUMMARY:Atlanta Alumni Event
DESCRIPTION:Join us at Kitty Dare\, owned by alumnus Jamshad ‘Jaamy” Zarnegar ‘85\, for an evening with fellow Spartans and friends. \nPlease click here to secure your ticket for this event.
URL:https://hhs.uncg.edu/event/atlanta-alumni-event/
END:VEVENT
BEGIN:VEVENT
DTSTART;TZID=America/New_York:20250916T173000
DTEND;TZID=America/New_York:20250916T193000
DTSTAMP:20260423T074314
CREATED:20250820T215723Z
LAST-MODIFIED:20250820T215723Z
UID:10000046-1758043800-1758051000@hhs.uncg.edu
SUMMARY:Charlotte Alumni Network: Talk ’n Taco Tuesday at Que Onda
DESCRIPTION:UNCG Alumni is hosting a Taco Tuesday event at Que Onda University City. We have reserved the covered\, outdoor patio and registration will include a chicken and beef taco buffet and 1 complimentary beverage per attendee. Additional drinks may be purchased at the cash bar. \nAdditionally\, we will have a speaker give a quick 15-minute TEDx style talk/presentation. Stay tuned for a speaker reveal! Guests are welcome to attend\, but must register in advance alongside the alum(ni) with whom they will attend. \nPlease click here to secure your ticket for this event!
URL:https://hhs.uncg.edu/event/charlotte-alumni-network-talk-n-taco-tuesday-at-que-onda/
END:VEVENT
BEGIN:VEVENT
DTSTART;TZID=America/New_York:20250912T180000
DTEND;TZID=America/New_York:20250912T200000
DTSTAMP:20260423T074314
CREATED:20250903T180701Z
LAST-MODIFIED:20250903T180701Z
UID:10000051-1757700000-1757707200@hhs.uncg.edu
SUMMARY:UNCG StoryTelling Festival - 2025
DESCRIPTION:The Storytelling Festival is focused on positive youth and community development through constructive storytelling. The festival will invite teachers with their students K through 12 from Guilford County to UNCG to hear from diverse storytellers in StoryShows and participate in StoryShops geared towards them developing speaking and writing skills. \nOpen Mic Night – Open to the public\nWhat: Open Mic Night for storytellers (and poets) – including parents and other guests\nWhen: September 12th\, 6–8 PM\nWhere: Elliot University Center (EUC ) Auditorium on UNCG campus
URL:https://hhs.uncg.edu/event/uncg-storytelling-festival-2025/
LOCATION:Elliot University Center (EUC ) Auditorium on UNCG\, 1400 Spring Garden Street\, Greensboro\, North Carolina\, 27412
END:VEVENT
END:VCALENDAR