BEGIN:VCALENDAR
VERSION:2.0
PRODID:-//School of Health and Human Sciences - ECPv6.15.20//NONSGML v1.0//EN
CALSCALE:GREGORIAN
METHOD:PUBLISH
X-WR-CALNAME:School of Health and Human Sciences
X-ORIGINAL-URL:https://hhs.uncg.edu
X-WR-CALDESC:Events for School of Health and Human Sciences
REFRESH-INTERVAL;VALUE=DURATION:PT1H
X-Robots-Tag:noindex
X-PUBLISHED-TTL:PT1H
BEGIN:VTIMEZONE
TZID:America/New_York
BEGIN:DAYLIGHT
TZOFFSETFROM:-0500
TZOFFSETTO:-0400
TZNAME:EDT
DTSTART:20240310T070000
END:DAYLIGHT
BEGIN:STANDARD
TZOFFSETFROM:-0400
TZOFFSETTO:-0500
TZNAME:EST
DTSTART:20241103T060000
END:STANDARD
BEGIN:DAYLIGHT
TZOFFSETFROM:-0500
TZOFFSETTO:-0400
TZNAME:EDT
DTSTART:20250309T070000
END:DAYLIGHT
BEGIN:STANDARD
TZOFFSETFROM:-0400
TZOFFSETTO:-0500
TZNAME:EST
DTSTART:20251102T060000
END:STANDARD
BEGIN:DAYLIGHT
TZOFFSETFROM:-0500
TZOFFSETTO:-0400
TZNAME:EDT
DTSTART:20260308T070000
END:DAYLIGHT
BEGIN:STANDARD
TZOFFSETFROM:-0400
TZOFFSETTO:-0500
TZNAME:EST
DTSTART:20261101T060000
END:STANDARD
END:VTIMEZONE
BEGIN:VEVENT
DTSTART;VALUE=DATE:20251029
DTEND;VALUE=DATE:20251030
DTSTAMP:20260423T200427
CREATED:20250820T220220Z
LAST-MODIFIED:20250820T220220Z
UID:10000049-1761696000-1761782399@hhs.uncg.edu
SUMMARY:DC Alumni Event
DESCRIPTION:Calling all DC-area alumni: mark your calendars to join us! More details will be available soon.
URL:https://hhs.uncg.edu/event/dc-alumni-event/
LOCATION:NC
END:VEVENT
BEGIN:VEVENT
DTSTART;TZID=America/New_York:20251029T120000
DTEND;TZID=America/New_York:20251029T130000
DTSTAMP:20260423T200427
CREATED:20251001T151306Z
LAST-MODIFIED:20251001T151306Z
UID:10000053-1761739200-1761742800@hhs.uncg.edu
SUMMARY:Employee Cooking Class
DESCRIPTION:UNCG employees are invited to join our Employee-Only Cooking Class\, led by the Department of Nutrition and our talented dietetic interns! In this hands-on session\, you’ll learn new healthy recipes along with sustainable shopping and cooking practices that you can easily bring into your daily routine. The best part—you’ll get to sample the delicious dishes you create together. Come spend your lunch break learning\, cooking\, and enjoying great food in a fun\, supportive environment! \nLocated in Stone 303 \nRegistration is required
URL:https://hhs.uncg.edu/event/employee-cooking-class/
LOCATION:NC
END:VEVENT
END:VCALENDAR