BEGIN:VCALENDAR
VERSION:2.0
PRODID:-//School of Health and Human Sciences - ECPv6.15.20//NONSGML v1.0//EN
CALSCALE:GREGORIAN
METHOD:PUBLISH
X-WR-CALNAME:School of Health and Human Sciences
X-ORIGINAL-URL:https://hhs.uncg.edu
X-WR-CALDESC:Events for School of Health and Human Sciences
REFRESH-INTERVAL;VALUE=DURATION:PT1H
X-Robots-Tag:noindex
X-PUBLISHED-TTL:PT1H
BEGIN:VTIMEZONE
TZID:America/New_York
BEGIN:DAYLIGHT
TZOFFSETFROM:-0500
TZOFFSETTO:-0400
TZNAME:EDT
DTSTART:20240310T070000
END:DAYLIGHT
BEGIN:STANDARD
TZOFFSETFROM:-0400
TZOFFSETTO:-0500
TZNAME:EST
DTSTART:20241103T060000
END:STANDARD
BEGIN:DAYLIGHT
TZOFFSETFROM:-0500
TZOFFSETTO:-0400
TZNAME:EDT
DTSTART:20250309T070000
END:DAYLIGHT
BEGIN:STANDARD
TZOFFSETFROM:-0400
TZOFFSETTO:-0500
TZNAME:EST
DTSTART:20251102T060000
END:STANDARD
BEGIN:DAYLIGHT
TZOFFSETFROM:-0500
TZOFFSETTO:-0400
TZNAME:EDT
DTSTART:20260308T070000
END:DAYLIGHT
BEGIN:STANDARD
TZOFFSETFROM:-0400
TZOFFSETTO:-0500
TZNAME:EST
DTSTART:20261101T060000
END:STANDARD
END:VTIMEZONE
BEGIN:VEVENT
DTSTART;TZID=America/New_York:20251028T173000
DTEND;TZID=America/New_York:20251028T203000
DTSTAMP:20260422T085758
CREATED:20250820T220306Z
LAST-MODIFIED:20250820T220306Z
UID:10000050-1761672600-1761683400@hhs.uncg.edu
SUMMARY:NYC UNCG Alumni Social
DESCRIPTION:Join UNCG Alumni at Tanner Smiths for a UNCG Alumni Social. Event includes an open bar with beer and wine and a variety of appetizers and finger foods. Liquor and mixed drinks can be purchased separately at the cash bar. Guests are welcome to attend!
URL:https://hhs.uncg.edu/event/nyc-uncg-alumni-social/
END:VEVENT
END:VCALENDAR