BEGIN:VCALENDAR
VERSION:2.0
PRODID:-//School of Health and Human Sciences - ECPv6.15.20//NONSGML v1.0//EN
CALSCALE:GREGORIAN
METHOD:PUBLISH
X-ORIGINAL-URL:https://hhs.uncg.edu
X-WR-CALDESC:Events for School of Health and Human Sciences
REFRESH-INTERVAL;VALUE=DURATION:PT1H
X-Robots-Tag:noindex
X-PUBLISHED-TTL:PT1H
BEGIN:VTIMEZONE
TZID:America/New_York
BEGIN:DAYLIGHT
TZOFFSETFROM:-0500
TZOFFSETTO:-0400
TZNAME:EDT
DTSTART:20240310T070000
END:DAYLIGHT
BEGIN:STANDARD
TZOFFSETFROM:-0400
TZOFFSETTO:-0500
TZNAME:EST
DTSTART:20241103T060000
END:STANDARD
BEGIN:DAYLIGHT
TZOFFSETFROM:-0500
TZOFFSETTO:-0400
TZNAME:EDT
DTSTART:20250309T070000
END:DAYLIGHT
BEGIN:STANDARD
TZOFFSETFROM:-0400
TZOFFSETTO:-0500
TZNAME:EST
DTSTART:20251102T060000
END:STANDARD
BEGIN:DAYLIGHT
TZOFFSETFROM:-0500
TZOFFSETTO:-0400
TZNAME:EDT
DTSTART:20260308T070000
END:DAYLIGHT
BEGIN:STANDARD
TZOFFSETFROM:-0400
TZOFFSETTO:-0500
TZNAME:EST
DTSTART:20261101T060000
END:STANDARD
END:VTIMEZONE
BEGIN:VEVENT
DTSTART;TZID=America/New_York:20251018T080000
DTEND;TZID=America/New_York:20251018T170000
DTSTAMP:20260422T051550
CREATED:20250506T151030Z
LAST-MODIFIED:20250506T151738Z
UID:10000036-1760774400-1760806800@hhs.uncg.edu
SUMMARY:Homecoming 2025
DESCRIPTION:Please join us for Homecoming. Events are held on College Ave.\, in front lawn of the Elliot Center (EUC) and at other locations across the UNCG campus. \n  \n  \n  \n \n 
URL:https://hhs.uncg.edu/event/homecoming-2025/
END:VEVENT
END:VCALENDAR